BEGIN:VCALENDAR
VERSION:2.0
PRODID:-//Cris Cosmo - ECPv6.1.3//NONSGML v1.0//EN
CALSCALE:GREGORIAN
METHOD:PUBLISH
X-ORIGINAL-URL:https://www.criscosmo.com
X-WR-CALDESC:Veranstaltungen für Cris Cosmo
REFRESH-INTERVAL;VALUE=DURATION:PT1H
X-Robots-Tag:noindex
X-PUBLISHED-TTL:PT1H
BEGIN:VTIMEZONE
TZID:Europe/Berlin
BEGIN:DAYLIGHT
TZOFFSETFROM:+0100
TZOFFSETTO:+0200
TZNAME:CEST
DTSTART:20250330T010000
END:DAYLIGHT
BEGIN:STANDARD
TZOFFSETFROM:+0200
TZOFFSETTO:+0100
TZNAME:CET
DTSTART:20251026T010000
END:STANDARD
END:VTIMEZONE
BEGIN:VEVENT
DTSTART;TZID=Europe/Berlin:20250430T190000
DTEND;TZID=Europe/Berlin:20250430T220000
DTSTAMP:20260421T221033
CREATED:20250128T151134Z
LAST-MODIFIED:20260107T114043Z
UID:5804-1746039600-1746050400@www.criscosmo.com
SUMMARY:Bühl
DESCRIPTION:Cris Cosmo feat. Paulo Santo (Cajón)\n \nam Vorfeiertag\nlive und Open Air auf der Terrasse des\nNu Pel\n \n\nEisenbahnstraße 17\n 77815 Bühl\, Deutschland\n\n\nKonzert von 19:00 – 22:00 Uhr\nEintritt frei – großzügige Spende erbeten.\n \nReservierung empfohlen: \n+49 7223 7682952\nnu-pel@outlook.de \nAchtung\, das Konzert ist wetterabhängig und muss bei schlechten Vorhersagen leider verschoben oder abgesagt werden. \nWenn das Konzert abgesagt wird\, geben wir das bis spätestens 14:00 Uhr am Veranstaltungstag hier bekannt.
URL:https://www.criscosmo.com/live/buehl-5/
LOCATION:Nu Pel\, Eisenbahnstraße 17\, Bühl\, Baden-Württemberg\, 77815\, Deutschland
CATEGORIES:Konzert
ATTACH;FMTTYPE=image/jpeg:https://www.criscosmo.com/wp-content/uploads/2024/03/18-CrisCosmo_DUO_Paul-Kalemba_by_DanielWetzel-2-1.jpg
ORGANIZER;CN="Nu%20Pel":MAILTO:nu-pel@outlook.de
END:VEVENT
END:VCALENDAR