BEGIN:VCALENDAR
VERSION:2.0
PRODID:-//Cris Cosmo - ECPv6.1.3//NONSGML v1.0//EN
CALSCALE:GREGORIAN
METHOD:PUBLISH
X-WR-CALNAME:Cris Cosmo
X-ORIGINAL-URL:https://www.criscosmo.com
X-WR-CALDESC:Veranstaltungen für Cris Cosmo
REFRESH-INTERVAL;VALUE=DURATION:PT1H
X-Robots-Tag:noindex
X-PUBLISHED-TTL:PT1H
BEGIN:VTIMEZONE
TZID:Europe/Berlin
BEGIN:DAYLIGHT
TZOFFSETFROM:+0100
TZOFFSETTO:+0200
TZNAME:CEST
DTSTART:20250330T010000
END:DAYLIGHT
BEGIN:STANDARD
TZOFFSETFROM:+0200
TZOFFSETTO:+0100
TZNAME:CET
DTSTART:20251026T010000
END:STANDARD
END:VTIMEZONE
BEGIN:VEVENT
DTSTART;TZID=Europe/Berlin:20250920T194500
DTEND;TZID=Europe/Berlin:20250920T220000
DTSTAMP:20260421T152919
CREATED:20250409T223109Z
LAST-MODIFIED:20260107T114006Z
UID:5892-1758397500-1758405600@www.criscosmo.com
SUMMARY:Monheim am Rhein
DESCRIPTION:Cris Cosmo & Band live beim\n \n\n\nSeptemberfest\nBühne an der Tegeler Straße\n\n\n40789 Monheim am Rhein \n\nEintritt frei.
URL:https://www.criscosmo.com/live/monheim-2/
LOCATION:Septemberfest Monheim am Rhein\, Tegeler Straße\, Monheim am Rhein\, 40789\, Deutschland
CATEGORIES:Konzert
ATTACH;FMTTYPE=image/jpeg:https://www.criscosmo.com/wp-content/uploads/2023/12/Cris-Cosmo-Band-Homepage-Tourdates-Quer-scaled.jpg
END:VEVENT
END:VCALENDAR