BEGIN:VCALENDAR
VERSION:2.0
PRODID:-//Cris Cosmo - ECPv6.1.3//NONSGML v1.0//EN
CALSCALE:GREGORIAN
METHOD:PUBLISH
X-WR-CALNAME:Cris Cosmo
X-ORIGINAL-URL:https://www.criscosmo.com
X-WR-CALDESC:Veranstaltungen für Cris Cosmo
REFRESH-INTERVAL;VALUE=DURATION:PT1H
X-Robots-Tag:noindex
X-PUBLISHED-TTL:PT1H
BEGIN:VTIMEZONE
TZID:Europe/Berlin
BEGIN:DAYLIGHT
TZOFFSETFROM:+0100
TZOFFSETTO:+0200
TZNAME:CEST
DTSTART:20260329T010000
END:DAYLIGHT
BEGIN:STANDARD
TZOFFSETFROM:+0200
TZOFFSETTO:+0100
TZNAME:CET
DTSTART:20261025T010000
END:STANDARD
END:VTIMEZONE
BEGIN:VEVENT
DTSTART;TZID=Europe/Berlin:20260126T200000
DTEND;TZID=Europe/Berlin:20260126T220000
DTSTAMP:20260421T062933
CREATED:20250831T111122Z
LAST-MODIFIED:20260107T114006Z
UID:6014-1769457600-1769464800@www.criscosmo.com
SUMMARY:Bamberg
DESCRIPTION:Cris Cosmo solo \nim \nLive-Club in Bamberg \nObere Sandtraße 7 \n96049 Bamberg \n  \ngenaue Spielzeiten und mehr Informationen werden noch veröffentlicht \nEintritt frei \n 
URL:https://www.criscosmo.com/live/bamberg-2/
LOCATION:Live-Club\, Obere Sandtraße 7\, Bamberg\, Bayern\, 96049
CATEGORIES:Konzert
ATTACH;FMTTYPE=image/jpeg:https://www.criscosmo.com/wp-content/uploads/2024/12/01b-CrisCosmo_SOLO_by_Daniel_Wetzel-querformat.jpg
END:VEVENT
END:VCALENDAR