BEGIN:VCALENDAR
VERSION:2.0
PRODID:-//Cris Cosmo - ECPv6.1.3//NONSGML v1.0//EN
CALSCALE:GREGORIAN
METHOD:PUBLISH
X-WR-CALNAME:Cris Cosmo
X-ORIGINAL-URL:https://www.criscosmo.com
X-WR-CALDESC:Veranstaltungen für Cris Cosmo
REFRESH-INTERVAL;VALUE=DURATION:PT1H
X-Robots-Tag:noindex
X-PUBLISHED-TTL:PT1H
BEGIN:VTIMEZONE
TZID:Europe/Berlin
BEGIN:DAYLIGHT
TZOFFSETFROM:+0100
TZOFFSETTO:+0200
TZNAME:CEST
DTSTART:20260329T010000
END:DAYLIGHT
BEGIN:STANDARD
TZOFFSETFROM:+0200
TZOFFSETTO:+0100
TZNAME:CET
DTSTART:20261025T010000
END:STANDARD
END:VTIMEZONE
BEGIN:VEVENT
DTSTART;TZID=Europe/Berlin:20260130T200000
DTEND;TZID=Europe/Berlin:20260130T223000
DTSTAMP:20260421T062948
CREATED:20251119T223825Z
LAST-MODIFIED:20260107T114006Z
UID:6073-1769803200-1769812200@www.criscosmo.com
SUMMARY:Germersheim
DESCRIPTION:Cris Cosmo feat. Paul Kalemba (Cajón) live beim \nVerein Interkultur \nReduitstraße 10\n76726 Germersheim \nEntspannte multikulti-Mischung zwischen studentischem und Best-Ager Hippie-Publikum.\nHier bist du ganz schnell willkommen und hier wird gerne und gut gefeiert.\nSehr familiär. \nEs gibt eine Bar und Snacks. \nEintritt 15\,- € VVK\, 18\,- € Abendkasse \nFür Tickets HIER klicken! \nEs gibt ermäßigte Tickets\, Gruppen-Tickets und 20% off Early-Bird-Tarif auf alle Tickets beim Kauf bis 11.01.26\nDu kannst sogar gegen Eintritt frei und Spende rein 🙂 – melde dich bitte trotzdem über den Ticketlink an.\nDu kannst Tickets bis 10 Tage vor der Veranstaltung wieder zurückgeben. \nEinlass 19:30 Uhr
URL:https://www.criscosmo.com/live/germersheim-4/
LOCATION:Interkultur Germersheim\, Reduitstraße 10\, Germersheim\, Rheinland-Pfalz\, 76726\, Deutschland
CATEGORIES:Konzert
ATTACH;FMTTYPE=image/jpeg:https://www.criscosmo.com/wp-content/uploads/2024/03/18-CrisCosmo_DUO_Paul-Kalemba_by_DanielWetzel-2-1.jpg
ORGANIZER;CN="Verein%20Interkultur":MAILTO:mbecky@gmx.de
END:VEVENT
END:VCALENDAR