BEGIN:VCALENDAR
VERSION:2.0
PRODID:-//Cris Cosmo - ECPv6.1.3//NONSGML v1.0//EN
CALSCALE:GREGORIAN
METHOD:PUBLISH
X-WR-CALNAME:Cris Cosmo
X-ORIGINAL-URL:https://www.criscosmo.com
X-WR-CALDESC:Veranstaltungen für Cris Cosmo
REFRESH-INTERVAL;VALUE=DURATION:PT1H
X-Robots-Tag:noindex
X-PUBLISHED-TTL:PT1H
BEGIN:VTIMEZONE
TZID:Europe/Berlin
BEGIN:DAYLIGHT
TZOFFSETFROM:+0100
TZOFFSETTO:+0200
TZNAME:CEST
DTSTART:20260329T010000
END:DAYLIGHT
BEGIN:STANDARD
TZOFFSETFROM:+0200
TZOFFSETTO:+0100
TZNAME:CET
DTSTART:20261025T010000
END:STANDARD
END:VTIMEZONE
BEGIN:VEVENT
DTSTART;TZID=Europe/Berlin:20260313T200000
DTEND;TZID=Europe/Berlin:20260313T223000
DTSTAMP:20260421T042510
CREATED:20251119T225005Z
LAST-MODIFIED:20260107T114006Z
UID:6077-1773432000-1773441000@www.criscosmo.com
SUMMARY:Gondelsheim
DESCRIPTION:Cris Cosmo feat. Paulo Santo (Cajón) live im \nKuhlturstall\nMühlstr. 5\n75053 Gondelsheim \nAnmeldung\nper Mail: luis.segura@gmx.de\noder Telefon: 07252 974879 \nEintritt frei. Um großzügige Spende für das Konzert\, Essen und Getränke wird gebeten! \nEinlass. 19:00 Uhr
URL:https://www.criscosmo.com/live/gondelsheim-4/
LOCATION:Kuhlturstall Gondelsheim\, Mühlstr. 5\, Gondelsheim\, Baden-Württemberg\, 75053
CATEGORIES:Konzert
ATTACH;FMTTYPE=image/jpeg:https://www.criscosmo.com/wp-content/uploads/2024/12/18-CrisCosmo_DUO_Paul-Kalemba_by_DanielWetzel-2.jpg
ORGANIZER;CN="Kuhlturstall":MAILTO:luis.segura@gmx.de
END:VEVENT
END:VCALENDAR