BEGIN:VCALENDAR
VERSION:2.0
PRODID:-//Cris Cosmo - ECPv6.1.3//NONSGML v1.0//EN
CALSCALE:GREGORIAN
METHOD:PUBLISH
X-WR-CALNAME:Cris Cosmo
X-ORIGINAL-URL:https://www.criscosmo.com
X-WR-CALDESC:Veranstaltungen für Cris Cosmo
REFRESH-INTERVAL;VALUE=DURATION:PT1H
X-Robots-Tag:noindex
X-PUBLISHED-TTL:PT1H
BEGIN:VTIMEZONE
TZID:Europe/Berlin
BEGIN:DAYLIGHT
TZOFFSETFROM:+0100
TZOFFSETTO:+0200
TZNAME:CEST
DTSTART:20250330T010000
END:DAYLIGHT
BEGIN:STANDARD
TZOFFSETFROM:+0200
TZOFFSETTO:+0100
TZNAME:CET
DTSTART:20251026T010000
END:STANDARD
END:VTIMEZONE
BEGIN:VEVENT
DTSTART;TZID=Europe/Berlin:20250501T153000
DTEND;TZID=Europe/Berlin:20250501T163000
DTSTAMP:20260421T204017
CREATED:20250116T154129Z
LAST-MODIFIED:20260107T114043Z
UID:5779-1746113400-1746117000@www.criscosmo.com
SUMMARY:Ludwigshafen
DESCRIPTION:Cris Cosmo feat. Michl Fischer (Drums) & Sascha Feldmann (Bass)\n \numrahmen live die\nKundgebung des DGB\n\nim Ebertpark \n67063 Ludwigshafen am Rhein \nEintritt frei.
URL:https://www.criscosmo.com/live/ludwigshafen/
LOCATION:Ebertpark\, Erzbergerstraße\, Ludwigshafen am Rhein\, 67063\, Deutschland
CATEGORIES:Konzert
ATTACH;FMTTYPE=image/jpeg:https://www.criscosmo.com/wp-content/uploads/2023/03/00-Cris-Cosmo-Trio-by-Daniel-Wetzel-e1678743542685.jpg
ORGANIZER;CN="DGB%20Rheinland-Pfalz%20%2F%20Saarland":MAILTO:rheinland-pfalz@dgb.de
END:VEVENT
BEGIN:VEVENT
DTSTART;TZID=Europe/Berlin:20250524T213000
DTEND;TZID=Europe/Berlin:20250524T230000
DTSTAMP:20260421T204017
CREATED:20250412T082450Z
LAST-MODIFIED:20260107T114043Z
UID:5895-1748122200-1748127600@www.criscosmo.com
SUMMARY:Mannheim
DESCRIPTION:Cris Cosmo & Band (Quintett) live beim\n \n\n\nMannheimer Stadtfest\n„Bühne frei!“ / Kulturnetzbühne\nMitten in der City auf den Planken\nzwischen den Quadraten O3 und O4\n\n\n\nEintritt frei!
URL:https://www.criscosmo.com/live/mannheim-11/
LOCATION:Bühne frei!\, O4\, 4\, Mannheim\, Baden-Württemberg\, 68159\, Deutschland
CATEGORIES:Konzert
ATTACH;FMTTYPE=image/jpeg:https://www.criscosmo.com/wp-content/uploads/2023/12/Cris-Cosmo-Band-Homepage-Tourdates-Quer-scaled.jpg
ORGANIZER;CN="Stadt%20Mannheim":MAILTO:monnem-bike@mannheim.de
END:VEVENT
END:VCALENDAR