BEGIN:VCALENDAR
VERSION:2.0
PRODID:-//Cris Cosmo - ECPv6.1.3//NONSGML v1.0//EN
CALSCALE:GREGORIAN
METHOD:PUBLISH
X-WR-CALNAME:Cris Cosmo
X-ORIGINAL-URL:https://www.criscosmo.com
X-WR-CALDESC:Veranstaltungen für Cris Cosmo
REFRESH-INTERVAL;VALUE=DURATION:PT1H
X-Robots-Tag:noindex
X-PUBLISHED-TTL:PT1H
BEGIN:VTIMEZONE
TZID:Europe/Berlin
BEGIN:DAYLIGHT
TZOFFSETFROM:+0100
TZOFFSETTO:+0200
TZNAME:CEST
DTSTART:20250330T010000
END:DAYLIGHT
BEGIN:STANDARD
TZOFFSETFROM:+0200
TZOFFSETTO:+0100
TZNAME:CET
DTSTART:20251026T010000
END:STANDARD
END:VTIMEZONE
BEGIN:VEVENT
DTSTART;TZID=Europe/Berlin:20250601T150000
DTEND;TZID=Europe/Berlin:20250601T161500
DTSTAMP:20260421T185238
CREATED:20241211T133300Z
LAST-MODIFIED:20260107T114043Z
UID:5717-1748790000-1748794500@www.criscosmo.com
SUMMARY:Kehl
DESCRIPTION:Cris Cosmo feat.Paul Kalemba (Cajón) \nlive beim Stadtfest Messdi\nin 77694 Kehl\nauf der Kulturbühne \nzwischen Marktplatz und Bahnhof \nEintritt frei!
URL:https://www.criscosmo.com/live/kehl/
LOCATION:Messdi\, Kehl\, BW\, Germany
CATEGORIES:Konzert
ATTACH;FMTTYPE=image/jpeg:https://www.criscosmo.com/wp-content/uploads/2024/12/18-CrisCosmo_DUO_Paul-Kalemba_by_DanielWetzel-2.jpg
END:VEVENT
BEGIN:VEVENT
DTSTART;TZID=Europe/Berlin:20250605T160000
DTEND;TZID=Europe/Berlin:20250605T180000
DTSTAMP:20260421T185238
CREATED:20250330T122012Z
LAST-MODIFIED:20260107T114113Z
UID:5878-1749139200-1749146400@www.criscosmo.com
SUMMARY:Live Music Production - Online-Workshop für Live-Musiker*innen
DESCRIPTION:Cris Cosmo im kompakten Webinar – Workshop Live Music Production für Musiker*innen \nDer Workshop ist kostenlos\, exklusiv für GEMA Mitglieder und findet per Microsoft Teams statt. \nHIER klicken zum Anmelden \n  \nLive Music Production \nIm Impuls-Webinar Live Music Production geht es nicht darum\, wie du dein Live-Konzert recordest. Es geht um alle Möglichkeiten\, deinen Live-Act erfolgreich auf die Bühne bzw. dein Konzert aufs nächste Level zu bringen. \nLivekonzerte bedeuten im Gegensatz zu unseren Bemühungen auf Social-Media und im Streaming auch 2025 direkte und planbare Einnahmen für Musiker*innen. Und das Live-Business ist einfach ein cooler Zirkus! \nEin Konzert kann ein einzigartiges\, bewegendes und unvergessliches Erlebnis für dein Publikum sein „Einfach die Songs spielen“ kann bedeuten\, spannende Möglichkeiten außer Acht zu lassen\, um dieses Potential zu erreichen. \nWir schauen uns folgende Aspekte im Bezug auf LIVE an: \n\nEntertainer Mindset\nWelche Bühnen funktionieren für dich\nBleibende Momente für das Publikum kreieren\nMusikalische Kommunikation\nVisuelle Kommunikation\nEntertainment\nModeration\nTechnik\, Tools & Gear\nIn-Ear Monitoring\nCrew\nAuswertung der Konzerte\nDeproduction\n\nHIER klicken zum Anmelden
URL:https://www.criscosmo.com/live/online-workshop-live-music-production-2/
LOCATION:Online
CATEGORIES:Workshop
ATTACH;FMTTYPE=image/jpeg:https://www.criscosmo.com/wp-content/uploads/2023/01/CC-Band-1b-2-e1679220184366.jpg
ORGANIZER;CN="GEMA":MAILTO:kontakt@gema.de
END:VEVENT
BEGIN:VEVENT
DTSTART;TZID=Europe/Berlin:20250606T190000
DTEND;TZID=Europe/Berlin:20250606T230000
DTSTAMP:20260421T185238
CREATED:20250519T174845Z
LAST-MODIFIED:20260107T114043Z
UID:5933-1749236400-1749250800@www.criscosmo.com
SUMMARY:Bruchsal
DESCRIPTION:Cris Cosmo feat. Paul Kalemba (Cajón) \nlive \nbeim „Bruchsaler Genuss und Gläserklang“ \nLuisenplatz Bruchsal\nLuisenstrasse 10\, 76646 Bruchsal \nEintritt frei \nBruchsaler Weinfest mit diverser Kulinarik und Musik-Programm
URL:https://www.criscosmo.com/live/bruchsal-3/
LOCATION:Luisenplatz Bruchsal\, Luisenstrasse 10\, Bruchsal\, 76646
CATEGORIES:Konzert
ATTACH;FMTTYPE=image/jpeg:https://www.criscosmo.com/wp-content/uploads/2024/12/18-CrisCosmo_DUO_Paul-Kalemba_by_DanielWetzel-2.jpg
ORGANIZER;CN="Stadtmarketing%20Bruchsal":MAILTO:stadtmarketing@bruchsal.de
END:VEVENT
BEGIN:VEVENT
DTSTART;TZID=Europe/Berlin:20250607T211500
DTEND;TZID=Europe/Berlin:20250607T214500
DTSTAMP:20260421T185238
CREATED:20241202T105337Z
LAST-MODIFIED:20260107T114043Z
UID:5666-1749330900-1749332700@www.criscosmo.com
SUMMARY:Karlsruhe
DESCRIPTION:Cris Cosmo feat. Tobi Nessel (Drums) \n\nlive auf dem CSD Karlsruhe \nMarktplatz\, 76133 Karlsruhe\, Deutschland \n\n\n  \n\nEintritt frei!
URL:https://www.criscosmo.com/live/karlsruhe-6/
LOCATION:Marktplatz\, 76133 Karlsruhe\, Marktplatz\, Karlsruhe\, BW\, 76133\, Germany
CATEGORIES:Konzert
ATTACH;FMTTYPE=image/jpeg:https://www.criscosmo.com/wp-content/uploads/2024/12/15b-CrisCosmo_DUO_TobiasNessel_by-Daniel-Wetzel_closeup.jpg
ORGANIZER;CN="CSD%20Karlsruhe%20e.%20V.":MAILTO:kontakt@csd-karlsruhe.de
END:VEVENT
BEGIN:VEVENT
DTSTART;TZID=Europe/Berlin:20250609T180000
DTEND;TZID=Europe/Berlin:20250609T210000
DTSTAMP:20260421T185238
CREATED:20250319T225010Z
LAST-MODIFIED:20260107T114043Z
UID:5851-1749492000-1749502800@www.criscosmo.com
SUMMARY:Flörsheim am Main
DESCRIPTION:Cris Cosmo feat. Paul Kalemba (Cajón) \nlive \nim Bootshaus Flörsheim\nDr.-Georg-von-Opel-Anlage 1\n65439 Flörsheim am Main \nEintritt frei\, großzügige Spende erbeten. \nTischreservierung empfohlen:\nTelefon: 06145-6440\nmail@floersheimer-bootshaus.de
URL:https://www.criscosmo.com/live/floersheim/
LOCATION:Boothaus Flörsheim\, Dr.-Georg-von-Opel-Anlage 1\, Flörsheim am Main\, Hessen\, 65439\, Germany
CATEGORIES:Konzert
ATTACH;FMTTYPE=image/jpeg:https://www.criscosmo.com/wp-content/uploads/2024/03/18-CrisCosmo_DUO_Paul-Kalemba_by_DanielWetzel-2-1.jpg
ORGANIZER;CN="Bootshaus%20Fl%C3%B6rsheim":MAILTO:mail@floersheimer-bootshaus.de
END:VEVENT
BEGIN:VEVENT
DTSTART;TZID=Europe/Berlin:20250614T201500
DTEND;TZID=Europe/Berlin:20250614T230000
DTSTAMP:20260421T185238
CREATED:20241202T123922Z
LAST-MODIFIED:20260107T114043Z
UID:5670-1749932100-1749942000@www.criscosmo.com
SUMMARY:Weinheim
DESCRIPTION:Cris Cosmo & Band live bei dem\n \nIF Weinheim 50. Geburtstagsfest\n\nim Stadthalle Weinheim\nBirkenauer Talstraße 1\,\n69469 Weinheim\n\nFür alle Informationen und Tickets HIER klicken.\n\n  \n 
URL:https://www.criscosmo.com/live/weinheim-4/
LOCATION:Stadthalle Weinheim\, Birkenauer Talstraße 1\,\, Weinheim\, BW\, 69469\, Germany
CATEGORIES:Konzert
ATTACH;FMTTYPE=image/jpeg:https://www.criscosmo.com/wp-content/uploads/2023/12/Cris-Cosmo-Band-Homepage-Tourdates-Quer-scaled.jpg
ORGANIZER;CN="IF%20Weinheim%20GmbH%20Institut%20f%C3%BCr%20systemische%20Ausbildung%20und%20Entwicklung":MAILTO:info@if-weinheim.de
END:VEVENT
BEGIN:VEVENT
DTSTART;TZID=Europe/Berlin:20250615T180000
DTEND;TZID=Europe/Berlin:20250615T203000
DTSTAMP:20260421T185238
CREATED:20250211T120004Z
LAST-MODIFIED:20260107T114043Z
UID:5826-1750010400-1750019400@www.criscosmo.com
SUMMARY:Hanau
DESCRIPTION:Cris Cosmo feat. Michl Fischer (Drums) & Sascha Feldmann (Bass)\n \nlive beim Lamboyfest\nBühne am Altstädter Markt\n63450 Hanau \nEintritt frei.
URL:https://www.criscosmo.com/live/hanau/
CATEGORIES:Konzert
ATTACH;FMTTYPE=image/jpeg:https://www.criscosmo.com/wp-content/uploads/2023/03/00-Cris-Cosmo-Trio-by-Daniel-Wetzel-e1678743542685.jpg
ORGANIZER;CN="Stadt%20Hanau":MAILTO:veranstaltungsbuero@hanau.de
END:VEVENT
BEGIN:VEVENT
DTSTART;TZID=Europe/Berlin:20250628T190000
DTEND;TZID=Europe/Berlin:20250628T220000
DTSTAMP:20260421T185238
CREATED:20250418T221633Z
LAST-MODIFIED:20260107T114043Z
UID:5917-1751137200-1751148000@www.criscosmo.com
SUMMARY:Speyer
DESCRIPTION:Cris Cosmo feat. Tobi Nessl (Drums)\n \nlive am\nRheinstrand Speyer\nAm Neuen Rheinhafen 1\n67346 Speyer\, Deutschland\n\nEintritt frei.\nGroßzügige Spende erbeten.\n\nDas Konzert wird bei schlechten Wettervorhersagen abgesagt / verschoben. Wird bis 14:00 Uhr am Veranstaltungstag hier auf der Homepage bekannt gegeben.
URL:https://www.criscosmo.com/live/speyer-2/
LOCATION:Rheinstrand Speyer\, Am Neuen Rheinhafen 1\, Speyer\, Rheinland-Pfalz\, 67346\, Deutschland
CATEGORIES:Konzert
ATTACH;FMTTYPE=image/jpeg:https://www.criscosmo.com/wp-content/uploads/2024/12/15b-CrisCosmo_DUO_TobiasNessel_by-Daniel-Wetzel_closeup.jpg
ORGANIZER;CN="Rheinstrand%20Speyer":MAILTO:info@rheinstrand-speyer.de
END:VEVENT
BEGIN:VEVENT
DTSTART;TZID=Europe/Berlin:20250629T210000
DTEND;TZID=Europe/Berlin:20250629T220000
DTSTAMP:20260421T185238
CREATED:20250602T083734Z
LAST-MODIFIED:20260107T114043Z
UID:5942-1751230800-1751234400@www.criscosmo.com
SUMMARY:Freiburg
DESCRIPTION:Cris Cosmo & Band  \nlive \nbei „Freiburg stimmt ein“ \nPlatz der Alten Synagoge\nBertoldstrasse 30\, 79098 Freiburg \nEintritt frei – Spenden erbeten \nStadtweite Open-Air Festival über das ganze Wochenende mit über 700 Musiker*innen
URL:https://www.criscosmo.com/live/freiburg4/
LOCATION:Platz der Alten Synagoge\, Bertoldstrasse 30\, Freiburg\, 79098
CATEGORIES:Konzert
ATTACH;FMTTYPE=image/jpeg:https://www.criscosmo.com/wp-content/uploads/2023/12/Cris-Cosmo-Band-Homepage-Tourdates-Quer-scaled.jpg
ORGANIZER;CN="Kultur%20leben%20e.%20V.":MAILTO:info@kultur-leben.org
END:VEVENT
END:VCALENDAR