BEGIN:VCALENDAR
VERSION:2.0
PRODID:-//Cris Cosmo - ECPv6.1.3//NONSGML v1.0//EN
CALSCALE:GREGORIAN
METHOD:PUBLISH
X-ORIGINAL-URL:https://www.criscosmo.com
X-WR-CALDESC:Veranstaltungen für Cris Cosmo
REFRESH-INTERVAL;VALUE=DURATION:PT1H
X-Robots-Tag:noindex
X-PUBLISHED-TTL:PT1H
BEGIN:VTIMEZONE
TZID:Europe/Berlin
BEGIN:DAYLIGHT
TZOFFSETFROM:+0100
TZOFFSETTO:+0200
TZNAME:CEST
DTSTART:20250330T010000
END:DAYLIGHT
BEGIN:STANDARD
TZOFFSETFROM:+0200
TZOFFSETTO:+0100
TZNAME:CET
DTSTART:20251026T010000
END:STANDARD
END:VTIMEZONE
BEGIN:VEVENT
DTSTART;TZID=Europe/Berlin:20250801T180000
DTEND;TZID=Europe/Berlin:20250801T210000
DTSTAMP:20260421T153136
CREATED:20250701T104306Z
LAST-MODIFIED:20260107T114042Z
UID:5964-1754071200-1754082000@www.criscosmo.com
SUMMARY:Bühl - Snack & Sing
DESCRIPTION:Snack & Sing mit Denise und Cris Cosmo\n \n\nVeganes / vegetarisches Mitbring-Buffet und gemeinsames Mantra Singen. \nIm Klostergarten\nCarl-Netter-Str. 7\n77815 Bühl \nBring bitte etwas Leckeres fürs Buffet mit\, wenn du ein Instrument hast\, pack es ein! \n☀️ Open Air – nur bei gutem Wetter! (aktuelle Infos ggf. kurzfristig) \n\nFür Anmeldung bitte HIER klicken. \nEintritt frei\, Spende erbeten.
URL:https://www.criscosmo.com/live/buehl-snack-and-sing/
LOCATION:Klostergarten Bühl\, Carl-Netter-Str. 7\, Bühl\, BW\, 77815\, Germany
CATEGORIES:Konzert
ATTACH;FMTTYPE=image/jpeg:https://www.criscosmo.com/wp-content/uploads/2025/01/Denise-Cris.jpg
ORGANIZER;CN="Yoga%20mit%20Denise":MAILTO:info@yoga-mit-denise.de
END:VEVENT
BEGIN:VEVENT
DTSTART;TZID=Europe/Berlin:20250803T203000
DTEND;TZID=Europe/Berlin:20250803T213000
DTSTAMP:20260421T153136
CREATED:20250525T095607Z
LAST-MODIFIED:20260107T114042Z
UID:5938-1754253000-1754256600@www.criscosmo.com
SUMMARY:Frankfurt
DESCRIPTION:Cris Cosmo feat. Paulo Kalemba (Cajón)\n \nlive auf dem Sommerwerft Festival Frankfurt \n\nWeseler Werft\nEckhardtstraße\n60314 Frankfurt am Main \n\nKonzert von ca. 20:30 – 21:30 Uhr\nEintritt frei\, Spende erwünscht.
URL:https://www.criscosmo.com/live/frankfurt-3/
LOCATION:weseler werft\, Eckhardtstraße\, Frankfurt am Main\, Baden-Württemberg\, 77815\, Deutschland
CATEGORIES:Konzert
ATTACH;FMTTYPE=image/jpeg:https://www.criscosmo.com/wp-content/uploads/2024/12/18-CrisCosmo_DUO_Paul-Kalemba_by_DanielWetzel-2.jpg
END:VEVENT
BEGIN:VEVENT
DTSTART;TZID=Europe/Berlin:20250805T193000
DTEND;TZID=Europe/Berlin:20250805T220000
DTSTAMP:20260421T153136
CREATED:20241202T140313Z
LAST-MODIFIED:20260107T114042Z
UID:5685-1754422200-1754431200@www.criscosmo.com
SUMMARY:Juist
DESCRIPTION:Cris Cosmo feat. Paul Kalemba (Cajón)\n \nAufgrund der Vorhersage für starken Wind findet das Konzert auf Juist nicht auf dem Kurplatz\, sondern im Haus des Kurgastes statt.\n\nHaus des Kurgastes\nStrandpromenade 6\n26571 Juist\nEintritt frei!\n \nBeginn 19:30 Uhr
URL:https://www.criscosmo.com/live/juist-5/
LOCATION:Kurplatz Juist\, Bahnhofstraße 5\, Juist\, 26571
CATEGORIES:Konzert
ATTACH;FMTTYPE=image/jpeg:https://www.criscosmo.com/wp-content/uploads/2024/03/18-CrisCosmo_DUO_Paul-Kalemba_by_DanielWetzel-2-1.jpg
ORGANIZER;CN="Kurverwaltung%20Juist":MAILTO:service@juist.de
END:VEVENT
BEGIN:VEVENT
DTSTART;TZID=Europe/Berlin:20250806T193000
DTEND;TZID=Europe/Berlin:20250806T213000
DTSTAMP:20260421T153136
CREATED:20241202T141429Z
LAST-MODIFIED:20260107T114042Z
UID:5688-1754508600-1754515800@www.criscosmo.com
SUMMARY:Juist
DESCRIPTION:Cris Cosmo feat. Paul Kalemba (Cajón) \nSteimer’s Strandbar\n\nSchoolpad\n26571 Juist\nEintritt frei!
URL:https://www.criscosmo.com/live/juist-4/
LOCATION:Steimer’s Strandbar\, Schoolpad\, Juist\, 26571
CATEGORIES:Konzert
ATTACH;FMTTYPE=image/jpeg:https://www.criscosmo.com/wp-content/uploads/2024/03/18-CrisCosmo_DUO_Paul-Kalemba_by_DanielWetzel-2-1.jpg
ORGANIZER;CN="Kurverwaltung%20Juist":MAILTO:service@juist.de
END:VEVENT
BEGIN:VEVENT
DTSTART;TZID=Europe/Berlin:20250808T193000
DTEND;TZID=Europe/Berlin:20250808T220000
DTSTAMP:20260421T153136
CREATED:20241202T142446Z
LAST-MODIFIED:20260107T114042Z
UID:5690-1754681400-1754690400@www.criscosmo.com
SUMMARY:Wangerooge
DESCRIPTION:Cris Cosmo feat. Paul Kalemba (Cajón) \nlive im \nRosengarten\nCharlottenstraße 17\,\n26486 Wangerooge \nEintritt frei!\nBeginn 19:30 Uhr
URL:https://www.criscosmo.com/live/wangerooge-2/
LOCATION:Rosengarten Wangerooge\, Charlottenstraße 17\, Rosengarten Wangerooge\, 26486
CATEGORIES:Konzert
ATTACH;FMTTYPE=image/jpeg:https://www.criscosmo.com/wp-content/uploads/2024/03/18-CrisCosmo_DUO_Paul-Kalemba_by_DanielWetzel-2-1.jpg
END:VEVENT
BEGIN:VEVENT
DTSTART;TZID=Europe/Berlin:20250812T193000
DTEND;TZID=Europe/Berlin:20250812T213000
DTSTAMP:20260421T153136
CREATED:20250525T131232Z
LAST-MODIFIED:20260107T114042Z
UID:5940-1755027000-1755034200@www.criscosmo.com
SUMMARY:Leonberg
DESCRIPTION:Cris Cosmo feat. Paul Kalemba (Cajón) \nlive beim\nStrohländle in Leonberg\n\nEngelbergwiese\, Engelberg 2\, 71229 Leonberg\n\nEintritt frei!
URL:https://www.criscosmo.com/live/leonberg-2/
LOCATION:Engelbergwiese\, Engelberg 2\, Leonberg\, 71229\, Deutschland
CATEGORIES:Konzert
ATTACH;FMTTYPE=image/jpeg:https://www.criscosmo.com/wp-content/uploads/2024/12/18-CrisCosmo_DUO_Paul-Kalemba_by_DanielWetzel-2.jpg
END:VEVENT
BEGIN:VEVENT
DTSTART;VALUE=DATE:20250822
DTEND;VALUE=DATE:20250823
DTSTAMP:20260421T153136
CREATED:20250119T200256Z
LAST-MODIFIED:20260107T114042Z
UID:5782-1755820800-1755907199@www.criscosmo.com
SUMMARY:Mönchberg
DESCRIPTION:Cris Cosmo feat. Michl Fischer (Drums)\n \nlive bei\nRock im Bad \nMönchberg \nUnplugged Bühne \nGenaue Zeiten und Infos zu Tickets folgen.
URL:https://www.criscosmo.com/live/moenchberg/
LOCATION:Rock im Bad\, Schwimmbadstr. 21\, Mönchberg\, Bayern\, 63933
CATEGORIES:Konzert
ATTACH;FMTTYPE=image/jpeg:https://www.criscosmo.com/wp-content/uploads/2023/12/12b-Cris-Cosmo_DUO_Michl-Fischer-Duo_by-Daniel-Wetzel_closeup.jpg
ORGANIZER;CN="Rock%20im%20Bad":MAILTO:foerderverein.spessartbad@freenet.de
END:VEVENT
END:VCALENDAR