BEGIN:VCALENDAR
VERSION:2.0
PRODID:-//Cris Cosmo - ECPv6.1.3//NONSGML v1.0//EN
CALSCALE:GREGORIAN
METHOD:PUBLISH
X-ORIGINAL-URL:https://www.criscosmo.com
X-WR-CALDESC:Veranstaltungen für Cris Cosmo
REFRESH-INTERVAL;VALUE=DURATION:PT1H
X-Robots-Tag:noindex
X-PUBLISHED-TTL:PT1H
BEGIN:VTIMEZONE
TZID:Europe/Berlin
BEGIN:DAYLIGHT
TZOFFSETFROM:+0100
TZOFFSETTO:+0200
TZNAME:CEST
DTSTART:20250330T010000
END:DAYLIGHT
BEGIN:STANDARD
TZOFFSETFROM:+0200
TZOFFSETTO:+0100
TZNAME:CET
DTSTART:20251026T010000
END:STANDARD
END:VTIMEZONE
BEGIN:VEVENT
DTSTART;TZID=Europe/Berlin:20251001T200000
DTEND;TZID=Europe/Berlin:20251001T223000
DTSTAMP:20260421T120454
CREATED:20250928T204409Z
LAST-MODIFIED:20260107T114006Z
UID:6050-1759348800-1759357800@www.criscosmo.com
SUMMARY:Bühl
DESCRIPTION:Cris Cosmo zu Gast bei „Schmid’s aufm Sofa“ mit den Funky Valentines \nDie Funky Valentines spielen Covers\, Cris wird auf der Couch interviewt und spielt eigene Songs und Covers solo und gemeinsam mit den Valentines. \nlive \nim Kappler Lamm\nKappelwindeckstr. 15\n77815 Bühl \nReservierung empfohlen: \nE-Mail: info@kapplerlamm.com\nTelefon: 07223-900 180\nwww.kapplerlamm.com \nEintritt frei\, großzügige Spende erbeten \nDas Kappler Lamm ist ein gemütliches Restaurant und eine Live-Location mit regionalen Live-Acts.
URL:https://www.criscosmo.com/live/buehl-10/
LOCATION:Kappler Lamm\, Kappelwindeckstraße 15\, Bühl\, BW\, 77815\, Germany
CATEGORIES:Konzert
ATTACH;FMTTYPE=image/jpeg:https://www.criscosmo.com/wp-content/uploads/2025/08/00-Cosmo_PalmTrees_by_Katia_Goekoglu.jpeg
ORGANIZER;CN="Kappler%20Lamm":MAILTO:info@kapplerlamm.com
END:VEVENT
BEGIN:VEVENT
DTSTART;TZID=Europe/Berlin:20251008T200000
DTEND;TZID=Europe/Berlin:20251008T223000
DTSTAMP:20260421T120454
CREATED:20250319T230550Z
LAST-MODIFIED:20260107T114006Z
UID:5856-1759953600-1759962600@www.criscosmo.com
SUMMARY:Bühl
DESCRIPTION:Cris Cosmo feat. Paul Kalemba (Cajón) \nlive \nim Kappler Lamm\nKappelwindeckstr. 15\n77815 Bühl \nReservierung empfohlen: \nE-Mail: info@kapplerlamm.com\nTelefon: 07223-900 180\nwww.kapplerlamm.com \nEintritt frei\, großzügige Spende erbeten \nDas Kappler Lamm ist ein gemütliches Restaurant und eine Live-Location mit regionalen Live-Acts.
URL:https://www.criscosmo.com/live/buehl-7/
LOCATION:Kappler Lamm\, Kappelwindeckstraße 15\, Bühl\, BW\, 77815\, Germany
CATEGORIES:Konzert
ATTACH;FMTTYPE=image/jpeg:https://www.criscosmo.com/wp-content/uploads/2024/03/18-CrisCosmo_DUO_Paul-Kalemba_by_DanielWetzel-2-1.jpg
ORGANIZER;CN="Kappler%20Lamm":MAILTO:info@kapplerlamm.com
END:VEVENT
BEGIN:VEVENT
DTSTART;TZID=Europe/Berlin:20251011T190000
DTEND;TZID=Europe/Berlin:20251011T220000
DTSTAMP:20260421T120454
CREATED:20250203T223258Z
LAST-MODIFIED:20260107T114006Z
UID:5815-1760209200-1760220000@www.criscosmo.com
SUMMARY:Neustadt a.d. Weinstraße
DESCRIPTION:Cris Cosmo feat. Michl Fischer (Drums)\n \nlive beim\n\nw.i.n.e. FESTival 2025\n\nim beheizten Spiegelzelt „Bon Vivant“\nHetzelplatz\n67433 Neustadt a.d. Weinstraße\nEintritt frei.\n \nWunderschöne Location mit gemütlichen kleinen Separees für deine Freunde und dich und einem großen Tanzboden. Mit einer exklusiven Auswahl von 111 Weinen aus aller Welt. Unser Tourabschluss 2025 im Südwesten. Sehr empfehlenswert!
URL:https://www.criscosmo.com/live/neustadt-a-d-weinstrasse-3/
LOCATION:Bon Vivant\, Hetzelplatz 1\, Neustadt an der Weinstraße\, Rheinland-Pfalz\, 67433\, Deutschland
CATEGORIES:Konzert
ATTACH;FMTTYPE=image/jpeg:https://www.criscosmo.com/wp-content/uploads/2023/12/12b-Cris-Cosmo_DUO_Michl-Fischer-Duo_by-Daniel-Wetzel_closeup.jpg
END:VEVENT
BEGIN:VEVENT
DTSTART;TZID=Europe/Berlin:20251024T180000
DTEND;TZID=Europe/Berlin:20251024T210000
DTSTAMP:20260421T120454
CREATED:20250903T125748Z
LAST-MODIFIED:20260107T114006Z
UID:6020-1761328800-1761339600@www.criscosmo.com
SUMMARY:Bühl - LiveMusik YogaFlow
DESCRIPTION:LiveMusik YogaFlow mit Denise und Cris Cosmo\n \nSpüre\, wie Musik und Bewegung eins werden. In dieser besonderen Herzschlag-Edition begleitet Cris den Abend mit Gitarre und Gesang – mal sanft und beruhigend\, mal kraftvoll und voller Rhythmus. Der Beat trägt dich durch die Yogapraxis\, die Atemübungen und die Entspannung\, sodass dein eigener Herzschlag in Resonanz mit der Musik fließen kann. \nEin Abend\, der dich einlädt\, den Alltag loszulassen\, dich mit dir selbst und anderen zu verbinden und dich von Bewegung\, Sound & Stimme berühren zu lassen. \nDich erwartet: \nein Yogaflow\, der dich sanft und rhythmisch in Bewegung bringt\nMeditation\, Atemübungen & tiefe Entspannung\, begleitet von Gitarre & Gesang\ngemeinsames Singen\neine Atmosphäre voller Freude\, Leichtigkeit & Gemeinschaft\neine Pause mit Tee\, Wasser & kleinen Snacks zum Ankommen und Austauschen \nWer wir sind: \nDenise – Yogalehrerin \nCris – Songwriter\, Musiker & Coach \n  \n\nAdresse:\nYoga mit Denise\nBrombachweg 24 a\n77815 in Bühl\n\nTeilnahme: 49\,00 €\n\nEarly Bird: 39\,00 € (Buchung bis 30.09.25)\n\nLimitierte Plätze!\nFür Anmeldung HIER klicken und buchen.
URL:https://www.criscosmo.com/live/buehl-livemusik-yogaflow/
LOCATION:Yoga mit Denise\, Brombachweg 24 a\, Bühl\, 77815
CATEGORIES:Konzert
ATTACH;FMTTYPE=image/jpeg:https://www.criscosmo.com/wp-content/uploads/2025/01/Denise-Cris.jpg
ORGANIZER;CN="Yoga%20mit%20Denise":MAILTO:info@yoga-mit-denise.de
END:VEVENT
BEGIN:VEVENT
DTSTART;TZID=Europe/Berlin:20251025T200000
DTEND;TZID=Europe/Berlin:20251025T223000
DTSTAMP:20260421T120454
CREATED:20250213T172904Z
LAST-MODIFIED:20260107T114006Z
UID:5832-1761422400-1761431400@www.criscosmo.com
SUMMARY:Rastatt
DESCRIPTION:Cris Cosmo feat. Paul Kalemba (Cajón) \nlive \nim Schnick-Schnack in Niederbühl \nMurgtalstraße 62\n76437 Rastatt \nEintritt: 15\,- € VVK / AK \nFür Tickets HIER klicken! \nDas Schnick-Schnack ist ein gemütliches Café\, Restaurant und Live-Location mit regionalen Live-Acts.
URL:https://www.criscosmo.com/live/rastatt-3/
LOCATION:Murgtalstraße 62 76437 Rastatt-Niederbühl\, Murgtalstraße 62\, Rastatt-Niederbühl\, 76437\, Deutschland
CATEGORIES:Konzert
ATTACH;FMTTYPE=image/jpeg:https://www.criscosmo.com/wp-content/uploads/2024/03/18-CrisCosmo_DUO_Paul-Kalemba_by_DanielWetzel-2-1.jpg
ORGANIZER;CN="Schnick%20Schnack":MAILTO:info@schnick-schnack.com
END:VEVENT
BEGIN:VEVENT
DTSTART;TZID=Europe/Berlin:20251026T160000
DTEND;TZID=Europe/Berlin:20251026T190000
DTSTAMP:20260421T120454
CREATED:20250903T142805Z
LAST-MODIFIED:20260107T114006Z
UID:6022-1761494400-1761505200@www.criscosmo.com
SUMMARY:Weingarten (KA) - LiveMusik YogaFlow
DESCRIPTION:LiveMusik YogaFlow mit Denise und Cris Cosmo\n \nSpüre\, wie Musik und Bewegung eins werden. In dieser besonderen Herzschlag-Edition begleitet Cris den Abend mit Gitarre und Gesang – mal sanft und beruhigend\, mal kraftvoll und voller Rhythmus. Der Beat trägt dich durch die Yogapraxis\, die Atemübungen und die Entspannung\, sodass dein eigener Herzschlag in Resonanz mit der Musik fließen kann. \nEin Abend\, der dich einlädt\, den Alltag loszulassen\, dich mit dir selbst und anderen zu verbinden und dich von Bewegung\, Sound & Stimme berühren zu lassen. \nDich erwartet: \nein Yogaflow\, der dich sanft und rhythmisch in Bewegung bringt\nMeditation\, Atemübungen & tiefe Entspannung\, begleitet von Gitarre & Gesang\ngemeinsames Singen\neine Atmosphäre voller Freude\, Leichtigkeit & Gemeinschaft\neine Pause mit Tee\, Wasser & kleinen Snacks zum Ankommen und Austauschen \nWer wir sind: \nDenise – Yogalehrerin\nCris – Songwriter\, Musiker & Coach \nAdresse:\nYogalounge Weingarten\nJöhlinger Straße 118\nWeingarten (KA)  Deutschland\n\nTeilnahme: ab 50€\n\nLimitierte Plätze!\nFür Anmeldung HIER klicken und buchen.
URL:https://www.criscosmo.com/live/weingarten-ka-livemusik-yogaflow/
LOCATION:Yogalounge Weingarten\, Jöhlinger Straße 118\, Weingarten\, BW\, 76356\, Germany
CATEGORIES:Konzert
ATTACH;FMTTYPE=image/jpeg:https://www.criscosmo.com/wp-content/uploads/2025/01/Denise-Cris.jpg
ORGANIZER;CN="Yogalounge%20Weingarten":MAILTO:yoga@nicole-veith.de
END:VEVENT
BEGIN:VEVENT
DTSTART;TZID=Europe/Berlin:20251030T190000
DTEND;TZID=Europe/Berlin:20251030T230000
DTSTAMP:20260421T120454
CREATED:20251027T215748Z
LAST-MODIFIED:20260107T114006Z
UID:6064-1761850800-1761865200@www.criscosmo.com
SUMMARY:Bühl
DESCRIPTION:Cris Cosmo zu Gast beim Benefiz-Konzert \nim Kappler Lamm\nKappelwindeckstr. 15\n77815 Bühl \nfür den Buchtunger Tierhof in Sinzheim\, der nach dem Sturm am Wochenende enormen Schaden erlitten hat. \nReservierung empfohlen: \nE-Mail: info@kapplerlamm.com\nTelefon: 07223-900 180\nwww.kapplerlamm.com \nEintritt frei\, großzügige Spende erbeten \nDas Kappler Lamm ist ein gemütliches Restaurant und eine Live-Location mit regionalen Live-Acts. \nWeitere Live-Acts und aktuelle Running-Order: \nWalter Irion & Roxana\nBaby Twins\nSunny Wings\nSoul\nPeter & Klaus\nCris Cosmo\nJEMI\nMarlon\nKarin Obl & Axel Schmid (Funky Valentines)
URL:https://www.criscosmo.com/live/buehl-benefiz/
LOCATION:Kappler Lamm\, Kappelwindeckstraße 15\, Bühl\, BW\, 77815\, Germany
CATEGORIES:Konzert
ATTACH;FMTTYPE=image/jpeg:https://www.criscosmo.com/wp-content/uploads/2025/08/00-Cosmo_PalmTrees_by_Katia_Goekoglu.jpeg
ORGANIZER;CN="Kappler%20Lamm":MAILTO:info@kapplerlamm.com
END:VEVENT
END:VCALENDAR