BEGIN:VCALENDAR
VERSION:2.0
PRODID:-//Cris Cosmo - ECPv6.1.3//NONSGML v1.0//EN
CALSCALE:GREGORIAN
METHOD:PUBLISH
X-ORIGINAL-URL:https://www.criscosmo.com
X-WR-CALDESC:Veranstaltungen für Cris Cosmo
REFRESH-INTERVAL;VALUE=DURATION:PT1H
X-Robots-Tag:noindex
X-PUBLISHED-TTL:PT1H
BEGIN:VTIMEZONE
TZID:Europe/Berlin
BEGIN:DAYLIGHT
TZOFFSETFROM:+0100
TZOFFSETTO:+0200
TZNAME:CEST
DTSTART:20260329T010000
END:DAYLIGHT
BEGIN:STANDARD
TZOFFSETFROM:+0200
TZOFFSETTO:+0100
TZNAME:CET
DTSTART:20261025T010000
END:STANDARD
END:VTIMEZONE
BEGIN:VEVENT
DTSTART;TZID=Europe/Berlin:20260221T150000
DTEND;TZID=Europe/Berlin:20260221T180000
DTSTAMP:20260421T043814
CREATED:20250910T215316Z
LAST-MODIFIED:20260110T153215Z
UID:6030-1771686000-1771696800@www.criscosmo.com
SUMMARY:Speyer - LiveMusik YogaFlow
DESCRIPTION:LiveMusik YogaFlow mit Denise und Cris Cosmo\n \nSpüre\, wie Musik und Bewegung eins werden. In dieser besonderen Herzschlag-Edition begleitet Cris den Abend mit Gitarre und Gesang – mal sanft und beruhigend\, mal kraftvoll und voller Rhythmus. Der Beat trägt dich durch die von Denise angeleitete Yogapraxis\, die Atemübungen und die Entspannung\, sodass dein eigener Herzschlag in Resonanz mit der Musik fließen kann. \nEin Nachmittag\, der dich einlädt\, den Alltag loszulassen\, dich mit dir selbst und anderen zu verbinden und dich von Bewegung\, Sound & Stimme berühren zu lassen. \nDich erwartet: \n– ein Yogaflow\, der dich sanft und rhythmisch in Bewegung bringt\n– Meditation\, Atemübungen & tiefe Entspannung\, begleitet von Gitarre & Gesang\n– gemeinsames Singen\n– eine Atmosphäre voller Freude\, Leichtigkeit & Gemeinschaft\n– eine Pause mit Tee\, Wasser & kleinen Snacks zum Ankommen und Austauschen \nWer wir sind: \nDenise – Yogalehrerin\nCris – Songwriter\, Musiker & Coach \nLocation:\nYoga is You\nSt.-German-Straße 1\n67346 Speyer\n\nTeilnahmegebühr: ab 48€\n\nLimitierte Plätze!\n\nHIER klicken für Tickets / Anmeldung
URL:https://www.criscosmo.com/live/speyer-livemusik-yogaflow/
LOCATION:Yoga is you\, St.-German-Straße 1\, Speyer\, Rheinland-Pfalz\, 67346\, Germany
CATEGORIES:Workshop
ATTACH;FMTTYPE=image/jpeg:https://www.criscosmo.com/wp-content/uploads/2025/01/Denise-Cris.jpg
ORGANIZER;CN="Yoga%20is%20you":MAILTO:info@yogaisyou.de
END:VEVENT
BEGIN:VEVENT
DTSTART;TZID=Europe/Berlin:20260222T150000
DTEND;TZID=Europe/Berlin:20260222T180000
DTSTAMP:20260421T043814
CREATED:20251027T203119Z
LAST-MODIFIED:20260110T153236Z
UID:6062-1771772400-1771783200@www.criscosmo.com
SUMMARY:Bühl - LiveMusik YogaFlow
DESCRIPTION:LiveMusik YogaFlow mit Denise und Cris Cosmo („Herzschlag“ Edition) \nFür Tickets HIER klicken \nSpüre\, wie Musik und Bewegung eins werden. In dieser besonderen Herzschlag-Edition begleitet Cris den Abend mit Gitarre und Gesang – mal sanft und beruhigend\, mal kraftvoll und voller Rhythmus. Der Beat trägt dich durch die Yogapraxis\, die Atemübungen und die Entspannung\, sodass dein eigener Herzschlag in Resonanz mit der Musik fließen kann. \nEin Abend\, der dich einlädt\, den Alltag loszulassen\, dich mit dir selbst und anderen zu verbinden und dich von Bewegung\, Sound & Stimme berühren zu lassen. \nDich erwartet: \n\nein Yogaflow\, der dich sanft und rhythmisch in Bewegung bringt\nMeditation\, Atemübungen & tiefe Entspannung\, begleitet von Gitarre & Gesang\ngemeinsames Mantra-Singen\neine Atmosphäre voller Freude\, Leichtigkeit & Gemeinschaft\neine Pause mit Tee\, Wasser & kleinen Snacks zum Ankommen und Austauschen\n\nWer wir sind: \nDenise – Yogalehrerin\nCris – Songwriter\, Musiker & Coach \n\nAdresse des Yogastudios:\nYoga mit Denise\nBrombachweg 24 a\n77815 in Bühl\n\nTeilnahme: 49\,00 €\n\nFür Tickets HIER klicken\n\nLimitierte Plätze!\nSave the Date\, Anmeldung noch nicht möglich.
URL:https://www.criscosmo.com/live/buehl-livemusik-yogaflow-3/
LOCATION:Yoga mit Denise\, Brombachweg 24 a\, Bühl\, 77815
CATEGORIES:Workshop
ATTACH;FMTTYPE=image/jpeg:https://www.criscosmo.com/wp-content/uploads/2025/01/Denise-Cris.jpg
ORGANIZER;CN="Yoga%20mit%20Denise":MAILTO:info@yoga-mit-denise.de
END:VEVENT
END:VCALENDAR