BEGIN:VCALENDAR
VERSION:2.0
PRODID:-//Cris Cosmo - ECPv6.1.3//NONSGML v1.0//EN
CALSCALE:GREGORIAN
METHOD:PUBLISH
X-WR-CALNAME:Cris Cosmo
X-ORIGINAL-URL:https://www.criscosmo.com
X-WR-CALDESC:Veranstaltungen für Cris Cosmo
REFRESH-INTERVAL;VALUE=DURATION:PT1H
X-Robots-Tag:noindex
X-PUBLISHED-TTL:PT1H
BEGIN:VTIMEZONE
TZID:Europe/Berlin
BEGIN:DAYLIGHT
TZOFFSETFROM:+0100
TZOFFSETTO:+0200
TZNAME:CEST
DTSTART:20260329T010000
END:DAYLIGHT
BEGIN:STANDARD
TZOFFSETFROM:+0200
TZOFFSETTO:+0100
TZNAME:CET
DTSTART:20261025T010000
END:STANDARD
END:VTIMEZONE
BEGIN:VEVENT
DTSTART;TZID=Europe/Berlin:20260424T200000
DTEND;TZID=Europe/Berlin:20260424T223000
DTSTAMP:20260421T004516
CREATED:20251119T230918Z
LAST-MODIFIED:20260107T114006Z
UID:6083-1777060800-1777069800@www.criscosmo.com
SUMMARY:Oberkirch
DESCRIPTION:Cris Cosmo feat. Paul Kalemba (Cajón) live in der \nMach!Bar\nKirchplatz 1\n77704 Oberkirch \nSave the Date! \nEs gibt eine Bar und Snacks. \nEintritt 15\,- € VVK\, 18\,- € Abendkasse \nFür Tickets HIER klicken! \nEs gibt ermäßigte Tickets\, Gruppen-Tickets und 20% off Early-Bird-Tarif auf alle Tickets beim Kauf bis 11.01.26\nDu kannst sogar gegen Eintritt frei und Spende rein 🙂 – melde dich bitte trotzdem über den Ticketlink an.\nDu kannst Tickets bis 10 Tage vor der Veranstaltung wieder zurückgeben. \nEinlass 19:30 Uhr
URL:https://www.criscosmo.com/live/oberkirch-4/
LOCATION:Mach!BAR Oberkirch\, Kirchplatz 1\, Oberkirch\, BW\, 77704\, Germany
CATEGORIES:Konzert
ATTACH;FMTTYPE=image/jpeg:https://www.criscosmo.com/wp-content/uploads/2024/03/18-CrisCosmo_DUO_Paul-Kalemba_by_DanielWetzel-2-1.jpg
ORGANIZER;CN="Mission%20Black%20Forest":MAILTO:office@mission-black-forest.de
END:VEVENT
BEGIN:VEVENT
DTSTART;TZID=Europe/Berlin:20260426T160000
DTEND;TZID=Europe/Berlin:20260426T190000
DTSTAMP:20260421T004516
CREATED:20260323T222831Z
LAST-MODIFIED:20260329T212014Z
UID:6291-1777219200-1777230000@www.criscosmo.com
SUMMARY:Bühl - Gitarren-Workshop
DESCRIPTION:Gitarrenworkshop mit Cris Cosmo \nDu kannst schon ein paar Akkorde auf der Gitarre greifen\, wünschst dir aber mehr Sicherheit\, neue Schlagmuster und Tricks direkt vom Profi mit über 30 Jahren Bühnenerfahrung? Dann ist dieser Workshop genau das Richtige für dich. Du bringst deine Gitarre mit und solltest bereits ein paar grundlegende Akkorde greifen können – mehr braucht es nicht. Noten lesen musst du nicht können. \nIn diesem Workshop lebendigen\, praxisnahen Workshop kannst du: \n\n\ndeine Schlagmuster erweitern und rhythmisch sicherer werden \n\n\npraxisnahe Tipps für Begleitung und Songaufbau mitnehmen \n\n\nvon Cris’ Erfahrung aus drei Jahrzehnten Live-Musik profitieren \n\n\nin kleiner Runde spielen\, fragen und ausprobieren \n\n\n\nAdresse des Yogastudios:\nYoga mit Denise\nBrombachweg 24 a\n77815 in Bühl\n\n\nTeilnahme:\nRegulär 49 €\nKombiticket für zwei: 89 €\nErmäßigt 29 €\n\n\nFür Tickets HIER klicken\n\n\nLimitierte Plätze!
URL:https://www.criscosmo.com/live/buehl-gitarren-workshop-2/
LOCATION:Yoga mit Denise\, Brombachweg 24 a\, Bühl\, 77815
CATEGORIES:Workshop
ATTACH;FMTTYPE=image/jpeg:https://www.criscosmo.com/wp-content/uploads/2026/03/00-Cris-Cosmo-by-Rene-van-der-Voorden-1-scaled.jpg
ORGANIZER;CN="Cris%20Cosmo":MAILTO:news@criscosmo.com
END:VEVENT
BEGIN:VEVENT
DTSTART;TZID=Europe/Berlin:20260428T180000
DTEND;TZID=Europe/Berlin:20260428T220000
DTSTAMP:20260421T004516
CREATED:20260126T094237Z
LAST-MODIFIED:20260419T161854Z
UID:6194-1777399200-1777413600@www.criscosmo.com
SUMMARY:Sinzheim
DESCRIPTION:Cris Cosmo feat. Paul Kalemba (Cajón) live beim \nSundowner-Konzert im wunderschönen \nWeingut Kopp\nEbenunger Str. 23\n76547 Sinzheim \nEinzigartiger Panorama-Blick 🤩 \nBeginn: 17:00 Uhr\nEnde: 22:00 Uhr\nKonzert von ca. 18:00 – 21:30 Uhr \nEintritt frei – um großzügige Spende wird gebeten \nAnmeldung: nicht erforderlich\, einfach vorbeischauen. \nBei schlechtem Wetter weichen wir flexibel in Vinothek und Restaurant aus. \nBitte beachtet:\nAuf der Terrasse sind keine Sitzplatzreservierungen möglich – first come\, first served.\nEs stehen ausreichend Stehtische\, Liegestühle sowie zusätzliche Sitzplätze in den Innenräumen zur Verfügung.
URL:https://www.criscosmo.com/live/sinzheim/
LOCATION:Weingut Kopp\, Ebenunger Str. 23\, Sinzheim\, BW\, 76547\, Germany
CATEGORIES:Konzert
ATTACH;FMTTYPE=image/jpeg:https://www.criscosmo.com/wp-content/uploads/2024/03/18-CrisCosmo_DUO_Paul-Kalemba_by_DanielWetzel-2-1.jpg
ORGANIZER;CN="Weinut%20Kopp":MAILTO:info@weingut-kopp.com
END:VEVENT
BEGIN:VEVENT
DTSTART;TZID=Europe/Berlin:20260429T160000
DTEND;TZID=Europe/Berlin:20260429T180000
DTSTAMP:20260421T004516
CREATED:20251120T232207Z
LAST-MODIFIED:20260207T003459Z
UID:6085-1777478400-1777485600@www.criscosmo.com
SUMMARY:Online-Workshop: Lights & Visuals DIY für Musiker*innen & DJs
DESCRIPTION:Cris Cosmo im kompakten Webinar – Workshop Lights & Visuals DIY für Musiker*innen und DJs\n \nHIER geht’s zur Anmeldung. \nDer Workshop ist kostenlos\, exklusiv für GEMA Mitglieder und findet per Microsoft Teams statt. \n200 Limitierte Plätze.\nWenn du zur besagten Zeit nicht kannst\, kannst du dich auch anmelden und erhältst im Nachhinein das Skript und die Aufzeichnung. \n\nIm Workshop gibt es Infos zu folgenden Themen:\n\nWelche Art von Bühnenlicht eignet sich für Liveproduktionen in Eigenregie?\nWelche Möglichkeiten gibt es für die Lichtsteuerung?\nWas davon passt zu meinem Setup?\nWelche Möglichkeiten gibt es\, Visuals zum Konzert selbst mitzubringen und zu steuern?\nWie komme ich an Content für die Visuals?\nWelche konkreten Produkte gibt es zu welchen Preisen?\nKann man sich das evtl. fördern lassen? Und wenn ja\, wie und wo?\n\nZiel des Webinars: \n\nÜberblick über aktuelle Möglichkeiten\, Produkte und Kosten für eigene Lichtshows und Visuals.\n\nZielgruppe: Musiker*innen und DJs\, die live auftreten und sich visuell besser in Szene setzen wollen.\n\nHIER geht’s zur Anmeldung.
URL:https://www.criscosmo.com/live/lights-visuals-diy-online-workshop-fuer-musikerinnen-djs-2026/
LOCATION:Online
CATEGORIES:Workshop
ATTACH;FMTTYPE=image/jpeg:https://www.criscosmo.com/wp-content/uploads/2023/01/CC-Band-1b-2-e1679220184366.jpg
ORGANIZER;CN="GEMA":MAILTO:kontakt@gema.de
END:VEVENT
END:VCALENDAR