BEGIN:VCALENDAR
VERSION:2.0
PRODID:-//Cris Cosmo - ECPv6.1.3//NONSGML v1.0//EN
CALSCALE:GREGORIAN
METHOD:PUBLISH
X-WR-CALNAME:Cris Cosmo
X-ORIGINAL-URL:https://www.criscosmo.com
X-WR-CALDESC:Veranstaltungen für Cris Cosmo
REFRESH-INTERVAL;VALUE=DURATION:PT1H
X-Robots-Tag:noindex
X-PUBLISHED-TTL:PT1H
BEGIN:VTIMEZONE
TZID:Europe/Berlin
BEGIN:DAYLIGHT
TZOFFSETFROM:+0100
TZOFFSETTO:+0200
TZNAME:CEST
DTSTART:20250330T010000
END:DAYLIGHT
BEGIN:STANDARD
TZOFFSETFROM:+0200
TZOFFSETTO:+0100
TZNAME:CET
DTSTART:20251026T010000
END:STANDARD
END:VTIMEZONE
BEGIN:VEVENT
DTSTART;TZID=Europe/Berlin:20250711T184500
DTEND;TZID=Europe/Berlin:20250711T220000
DTSTAMP:20260422T012606
CREATED:20241202T134241Z
LAST-MODIFIED:20260107T114043Z
UID:5679-1752259500-1752271200@www.criscosmo.com
SUMMARY:Reutlingen
DESCRIPTION:Cris Cosmo feat. Michl Fischer (Drums) & Sascha Feldmann (Bass)\n \nlive auf dem Sommerfest der Verdi Bezirk Fils – Neckar – Alb\nim echaz.Hafen \nUnter den Linden 23\,\n72762 Reutlingen \nEintritt frei. \nAnmeldung bis 06.07. erbeten\, für Anmeldung HIER KLICKEN. \nAnsonsten auch gerne spontan vorbeischauen 🙂
URL:https://www.criscosmo.com/live/reutlingen-2/
LOCATION:echaz.Hafen\, Unter den Linden 23\,\, Reutlingen\, BW\, 72762\, Germany
CATEGORIES:Konzert
ATTACH;FMTTYPE=image/jpeg:https://www.criscosmo.com/wp-content/uploads/2023/03/00-Cris-Cosmo-Trio-by-Daniel-Wetzel-e1678743542685.jpg
ORGANIZER;CN="ver.di%20Bezirk%20Fils-Neckar-Alb":MAILTO:service.bawue@verdi.de
END:VEVENT
END:VCALENDAR