BEGIN:VCALENDAR
VERSION:2.0
PRODID:-//Cris Cosmo - ECPv6.1.3//NONSGML v1.0//EN
CALSCALE:GREGORIAN
METHOD:PUBLISH
X-WR-CALNAME:Cris Cosmo
X-ORIGINAL-URL:https://www.criscosmo.com
X-WR-CALDESC:Veranstaltungen für Cris Cosmo
REFRESH-INTERVAL;VALUE=DURATION:PT1H
X-Robots-Tag:noindex
X-PUBLISHED-TTL:PT1H
BEGIN:VTIMEZONE
TZID:Europe/Berlin
BEGIN:DAYLIGHT
TZOFFSETFROM:+0100
TZOFFSETTO:+0200
TZNAME:CEST
DTSTART:20260329T010000
END:DAYLIGHT
BEGIN:STANDARD
TZOFFSETFROM:+0200
TZOFFSETTO:+0100
TZNAME:CET
DTSTART:20261025T010000
END:STANDARD
END:VTIMEZONE
BEGIN:VEVENT
DTSTART;TZID=Europe/Berlin:20260308T140000
DTEND;TZID=Europe/Berlin:20260308T170000
DTSTAMP:20260421T063109
CREATED:20260303T205813Z
LAST-MODIFIED:20260304T175802Z
UID:6274-1772978400-1772989200@www.criscosmo.com
SUMMARY:Bühl
DESCRIPTION:Cris Cosmo solo \nPop-up-Konzert auf der Terrasse des \nNu Pel\nEisenbahnstraße 17\n77815 Bühl \nWeltfrauentag – Special – Konzert \nfür alle Ladies gibt es ein Glas Sekt auf Haus. \nEintritt frei – großzügige Spende erwünscht. \nReservierung empfohlen – bitte HIER klicken  \nOder Telefon: 07223 – 9947005 \n 
URL:https://www.criscosmo.com/live/buehl-9/
LOCATION:Nu Pel\, Eisenbahnstraße 17\, Bühl\, Baden-Württemberg\, 77815\, Deutschland
CATEGORIES:Konzert
ATTACH;FMTTYPE=image/jpeg:https://www.criscosmo.com/wp-content/uploads/2026/03/00-Cris-Cosmo-by-Rene-van-der-Voorden-1-scaled.jpg
ORGANIZER;CN="Nu%20Pel":MAILTO:nu-pel@outlook.de
END:VEVENT
END:VCALENDAR