BEGIN:VCALENDAR
VERSION:2.0
PRODID:-//Cris Cosmo - ECPv6.1.3//NONSGML v1.0//EN
CALSCALE:GREGORIAN
METHOD:PUBLISH
X-ORIGINAL-URL:https://www.criscosmo.com
X-WR-CALDESC:Veranstaltungen für Cris Cosmo
REFRESH-INTERVAL;VALUE=DURATION:PT1H
X-Robots-Tag:noindex
X-PUBLISHED-TTL:PT1H
BEGIN:VTIMEZONE
TZID:Europe/Berlin
BEGIN:DAYLIGHT
TZOFFSETFROM:+0100
TZOFFSETTO:+0200
TZNAME:CEST
DTSTART:20220327T010000
END:DAYLIGHT
BEGIN:STANDARD
TZOFFSETFROM:+0200
TZOFFSETTO:+0100
TZNAME:CET
DTSTART:20221030T010000
END:STANDARD
END:VTIMEZONE
BEGIN:VEVENT
DTSTART;TZID=Europe/Berlin:20220731T173000
DTEND;TZID=Europe/Berlin:20220731T190000
DTSTAMP:20260422T122557
CREATED:20220627T203023Z
LAST-MODIFIED:20220704T200733Z
UID:4220-1659288600-1659294000@www.criscosmo.com
SUMMARY:Bruchsal
DESCRIPTION:Cris Cosmo feat. Tobi Nessel (Drums)\n \nlive beim\nSchlossfestival Bruchsal\n\nauf dem Ehrenhof\nSchloss Bruchsal \nSchlossraum 4\, 76466 Bruchsal \nEintritt frei\n \n 
URL:https://www.criscosmo.com/live/bruchsal-2/
LOCATION:Schloss Bruchsal\, Schlossraum 4\, Bruchsal\, 76646\, Deutschland
ATTACH;FMTTYPE=image/jpeg:https://www.criscosmo.com/wp-content/uploads/2022/03/06-CrisCosmo_TobiNessel_byRene_van_der_Voorden_yellow_CUT-scaled.jpg
END:VEVENT
END:VCALENDAR