BEGIN:VCALENDAR
VERSION:2.0
PRODID:-//Cris Cosmo - ECPv6.1.3//NONSGML v1.0//EN
CALSCALE:GREGORIAN
METHOD:PUBLISH
X-WR-CALNAME:Cris Cosmo
X-ORIGINAL-URL:https://www.criscosmo.com
X-WR-CALDESC:Veranstaltungen für Cris Cosmo
REFRESH-INTERVAL;VALUE=DURATION:PT1H
X-Robots-Tag:noindex
X-PUBLISHED-TTL:PT1H
BEGIN:VTIMEZONE
TZID:Europe/Berlin
BEGIN:DAYLIGHT
TZOFFSETFROM:+0100
TZOFFSETTO:+0200
TZNAME:CEST
DTSTART:20240331T010000
END:DAYLIGHT
BEGIN:STANDARD
TZOFFSETFROM:+0200
TZOFFSETTO:+0100
TZNAME:CET
DTSTART:20241027T010000
END:STANDARD
END:VTIMEZONE
BEGIN:VEVENT
DTSTART;TZID=Europe/Berlin:20240906T160000
DTEND;TZID=Europe/Berlin:20240906T180000
DTSTAMP:20260421T121223
CREATED:20240723T200245Z
LAST-MODIFIED:20240905T120422Z
UID:5562-1725638400-1725645600@www.criscosmo.com
SUMMARY:Workshop in Erfurt: Lights & Visuals DIY
DESCRIPTION:In diesem Intensivworkshop gibt’s jede Menge Tipps und Hacks zum Thema \nLights & Visuals DIY für (Live-)MusikerInnen. \n„Kalenderraum“ in der\nBuchhandlung Stapp\nMarktstraße 5\n99084 Erfurt \nDie komplette Mittel.Grün Con Musikbusiness Convention kostet 25\,- € für das Wochenende von 5. – 7.9.24 für alle Locations und Programmpunkte – auch Cris‘ Workshop ist inklusive. \nFür Tickets HIER klicken \n  \nIm Workshop gibt es Infos zu folgenden Themen: \n\nWelche Art von Bühnenlicht eignet sich für Liveproduktionen in Eigenregie?\nWelche Möglichkeiten gibt es für die Lichtsteuerung?\nWas davon passt zu meinem Setup?\nWelche Möglichkeiten gibt es\, Visuals zum Konzert mitzubringen?\nWie komme ich an Content für die Visuals?\nWelche konkreten Produkte gibt es zu welchen Preisen?\nKann man sich das evtl. fördern lassen? Und wenn ja\, wie und wo?\n\nZiel des Webinars: \n\nÜberblick über aktuelle Möglichkeiten\, Produkte und Kosten für eigene Lichtshows und Visuals.\n\nZielgruppe: MusikerInnen und DJs\, die live auftreten und sich visuell besser in Szene setzen wollen.
URL:https://www.criscosmo.com/live/workshop-in-erfurt-lights-visuals-diy/
LOCATION:Buchhandlung Stapp
ATTACH;FMTTYPE=image/jpeg:https://www.criscosmo.com/wp-content/uploads/2023/01/CC-Band-1b-2-e1679220184366.jpg
ORGANIZER;CN="Jazz-%20und%20Rockschulen%20Freiburg":MAILTO:info@jrs.org
END:VEVENT
BEGIN:VEVENT
DTSTART;TZID=Europe/Berlin:20240808T100000
DTEND;TZID=Europe/Berlin:20240808T160000
DTSTAMP:20260421T121223
CREATED:20240513T142857Z
LAST-MODIFIED:20240611T111453Z
UID:5419-1723111200-1723132800@www.criscosmo.com
SUMMARY:Workshop in Freiburg: Booking & Management DIY
DESCRIPTION:Cris Cosmo gibt in seinem Intensivworkshop jede Menge Tipps und Hacks zum Thema \nBooking & Management DIY für (Live-)MusikerInnen. \nJazz & Rock Schulen Freiburg \n\nHaslacher Str. 43\n79115 Freiburg im Breisgau\n\nZur Anmeldung gehts hier. \nDauer: 6 Stunden (eine Stunde Mittagspause)\nTermin: Do 08.08.2024\nUhrzeit: 10:00 – 16:00 Uhr\nAltersgruppe: 14-99 Jahre\nVoraussetzungen: Keine\nKursleiter: Cris Cosmo \nTeilnahmegebühr: 50\,- € \n\nINHALT: \nIm Workshop gibt es Impulse\, Tipps und Hacks für folgende Themenbereiche: \n\nPositionierung am Musikmarkt\nVon ganz netten Konzerten zu unvergesslichen Erlebnissen\nBooking\, Kommunikation & Networking\nKlassische Promotion und Social Media\nSongwriting & Produktion\nVeröffentlichung & Distribution\nFörderungen\nLivemusic Production & Sound-\, Lights- und Visuals DIY\n\nDieser Workshops hat Musikschaffende im Fokus\, die live auftreten (wollen). \n 
URL:https://www.criscosmo.com/live/workshop-in-freiburg-booking-management-diy/
LOCATION:Jazz- und Rockschulen Freiburg\, Haslacher Str. 43\,\, Freiburg im Breisgau\, Baden-Württemberg\, 79115\, Deutschland
ATTACH;FMTTYPE=image/jpeg:https://www.criscosmo.com/wp-content/uploads/2023/01/CC-Band-1b-2-e1679220184366.jpg
ORGANIZER;CN="Jazz-%20und%20Rockschulen%20Freiburg":MAILTO:info@jrs.org
END:VEVENT
END:VCALENDAR