BEGIN:VCALENDAR
VERSION:2.0
PRODID:-//Cris Cosmo - ECPv6.1.3//NONSGML v1.0//EN
CALSCALE:GREGORIAN
METHOD:PUBLISH
X-WR-CALNAME:Cris Cosmo
X-ORIGINAL-URL:https://www.criscosmo.com
X-WR-CALDESC:Veranstaltungen für Cris Cosmo
REFRESH-INTERVAL;VALUE=DURATION:PT1H
X-Robots-Tag:noindex
X-PUBLISHED-TTL:PT1H
BEGIN:VTIMEZONE
TZID:Europe/Berlin
BEGIN:DAYLIGHT
TZOFFSETFROM:+0100
TZOFFSETTO:+0200
TZNAME:CEST
DTSTART:20240331T010000
END:DAYLIGHT
BEGIN:STANDARD
TZOFFSETFROM:+0200
TZOFFSETTO:+0100
TZNAME:CET
DTSTART:20241027T010000
END:STANDARD
END:VTIMEZONE
BEGIN:VEVENT
DTSTART;TZID=Europe/Berlin:20240223T200000
DTEND;TZID=Europe/Berlin:20240223T220000
DTSTAMP:20260420T093234
CREATED:20240109T143529Z
LAST-MODIFIED:20240131T120452Z
UID:5024-1708718400-1708725600@www.criscosmo.com
SUMMARY:St. Martin
DESCRIPTION:Cris Cosmo feat. Tobi Nessel (Drums)\n \nKulturscheune St.Martin\nKellereistraße 1\n67487 St.Martin \nEintritt: 10€\, Tickets können an der Abendkasse oder vorab bei der Tourist Info in Sankt Martin (Adresse s.o.) gekauft werden \nReservierungen für die Abendkasse können beim Tourist-Info bestellt werden. Diese werden bei Nicht Abholen in Rechnung gestellt \n 
URL:https://www.criscosmo.com/live/st-martin/
LOCATION:Kulturscheune\, Kellereistraße 1\, St.Martin\, 67487\, Deutschland
ATTACH;FMTTYPE=image/jpeg:https://www.criscosmo.com/wp-content/uploads/2022/11/Cris-Cosmo-Tobias-Nessel-Duo_by-Daniel-Wetzel_closeup-e1675797953455.jpg
END:VEVENT
END:VCALENDAR