BEGIN:VCALENDAR
VERSION:2.0
PRODID:-//Cris Cosmo - ECPv6.1.3//NONSGML v1.0//EN
CALSCALE:GREGORIAN
METHOD:PUBLISH
X-ORIGINAL-URL:https://www.criscosmo.com
X-WR-CALDESC:Veranstaltungen für Cris Cosmo
REFRESH-INTERVAL;VALUE=DURATION:PT1H
X-Robots-Tag:noindex
X-PUBLISHED-TTL:PT1H
BEGIN:VTIMEZONE
TZID:Europe/Berlin
BEGIN:DAYLIGHT
TZOFFSETFROM:+0100
TZOFFSETTO:+0200
TZNAME:CEST
DTSTART:20260329T010000
END:DAYLIGHT
BEGIN:STANDARD
TZOFFSETFROM:+0200
TZOFFSETTO:+0100
TZNAME:CET
DTSTART:20261025T010000
END:STANDARD
END:VTIMEZONE
BEGIN:VEVENT
DTSTART;TZID=Europe/Berlin:20260108T143000
DTEND;TZID=Europe/Berlin:20260108T153000
DTSTAMP:20260421T064931
CREATED:20260106T124006Z
LAST-MODIFIED:20260107T114006Z
UID:6138-1767882600-1767886200@www.criscosmo.com
SUMMARY:Robinson Soma Bay\, Ägypten
DESCRIPTION:Cris Cosmo solo – live & for free \nbeim Sundowner direkt am Strand (öffentlich zugänglich) \nRobinson Club Soma Bay \nkm 48 Safaga Road\nEG149 Soma Bay\nRed Sea Governorate 84711\nHurghada\, Ägypten \nTelefon: 010 29283566\nMail: somabay@robinson.com \n  \nNach Ägyptischer Zeit (Kairo): 15:30 – 16:30 Uhr \nRobinson-Club-Zeit (Istanbul)  16:30 – 17:30 Uhr \nEintritt frei \n 
URL:https://www.criscosmo.com/live/robinson-soma-bay/
LOCATION:Robinson Soma Bay\, km 48 Safaga Road Red Sea Governorate 84711\, Safaga\, Hurghada\, 84711\, Egypt
CATEGORIES:Konzert
ATTACH;FMTTYPE=image/jpeg:https://www.criscosmo.com/wp-content/uploads/2024/12/01b-CrisCosmo_SOLO_by_Daniel_Wetzel-querformat.jpg
ORGANIZER;CN="Robinson%20Soma%20Bay":MAILTO:somabay@robinson.com
END:VEVENT
END:VCALENDAR