BEGIN:VCALENDAR
VERSION:2.0
PRODID:-//Cris Cosmo - ECPv6.1.3//NONSGML v1.0//EN
CALSCALE:GREGORIAN
METHOD:PUBLISH
X-ORIGINAL-URL:https://www.criscosmo.com
X-WR-CALDESC:Veranstaltungen für Cris Cosmo
REFRESH-INTERVAL;VALUE=DURATION:PT1H
X-Robots-Tag:noindex
X-PUBLISHED-TTL:PT1H
BEGIN:VTIMEZONE
TZID:Europe/Berlin
BEGIN:DAYLIGHT
TZOFFSETFROM:+0100
TZOFFSETTO:+0200
TZNAME:CEST
DTSTART:20260329T010000
END:DAYLIGHT
BEGIN:STANDARD
TZOFFSETFROM:+0200
TZOFFSETTO:+0100
TZNAME:CET
DTSTART:20261025T010000
END:STANDARD
END:VTIMEZONE
BEGIN:VEVENT
DTSTART;TZID=Europe/Berlin:20260612T190000
DTEND;TZID=Europe/Berlin:20260612T203000
DTSTAMP:20260423T164707
CREATED:20260422T135310Z
LAST-MODIFIED:20260422T143002Z
UID:6341-1781290800-1781296200@www.criscosmo.com
SUMMARY:Gaggenau - LiveMusik YogaFlow
DESCRIPTION:LiveMusik YogaFlow mit Denise und Cris Cosmo \nBeim Yoga & more Charity – Event „Artemis Awakening“ (von 15 – 21:00 Uhr) im \nUnimog Museum\nAn der\, B462\, 76571 Gaggenau\nGaggenau \nEintritt zum Event: 25\,- € (Save the Date – Infos zur Anmeldung folgen). \nDer gesamte Erlös geht zugunsten von Frauen gegen Gewalt e.V.  \nZum Livemusik Yogaflow \nSpüre\, wie Musik und Bewegung eins werden. Cris begleitet den Abend mit Gitarre und Gesang – mal sanft und beruhigend\, mal kraftvoll und voller Rhythmus. Der Beat trägt dich durch die Yogapraxis\, die Atemübungen und die Entspannung\, sodass dein eigener Herzschlag in Resonanz mit der Musik fließen kann. \nWer wir sind: \nDenise – Yogalehrerin\nCris – Songwriter\, Musiker & Coach \n\nLimitierte Plätze!
URL:https://www.criscosmo.com/live/gaggenau-livemusik-yogaflow/
LOCATION:Unimog Museum Gaggenau\, an der\, B462\, Gaggenau\, BW\, 76571\, Germany
CATEGORIES:Workshop
ATTACH;FMTTYPE=image/jpeg:https://www.criscosmo.com/wp-content/uploads/2025/01/Denise-Cris.jpg
ORGANIZER;CN="Souldancer":MAILTO:sarah@souldancer-yoga.de
END:VEVENT
END:VCALENDAR