BEGIN:VCALENDAR
VERSION:2.0
PRODID:-//Cris Cosmo - ECPv6.1.3//NONSGML v1.0//EN
CALSCALE:GREGORIAN
METHOD:PUBLISH
X-WR-CALNAME:Cris Cosmo
X-ORIGINAL-URL:https://www.criscosmo.com
X-WR-CALDESC:Veranstaltungen für Cris Cosmo
REFRESH-INTERVAL;VALUE=DURATION:PT1H
X-Robots-Tag:noindex
X-PUBLISHED-TTL:PT1H
BEGIN:VTIMEZONE
TZID:Europe/Berlin
BEGIN:DAYLIGHT
TZOFFSETFROM:+0100
TZOFFSETTO:+0200
TZNAME:CEST
DTSTART:20250330T010000
END:DAYLIGHT
BEGIN:STANDARD
TZOFFSETFROM:+0200
TZOFFSETTO:+0100
TZNAME:CET
DTSTART:20251026T010000
END:STANDARD
END:VTIMEZONE
BEGIN:VEVENT
DTSTART;TZID=Europe/Berlin:20250921T150000
DTEND;TZID=Europe/Berlin:20250921T180000
DTSTAMP:20260421T064936
CREATED:20250820T205955Z
LAST-MODIFIED:20260107T114136Z
UID:5996-1758466800-1758477600@www.criscosmo.com
SUMMARY:Workshop in Mannheim - how to build a killer live-show
DESCRIPTION:Cris Cosmo im Workshop für Musiker*innen \n„how to build a killer live-show“ \nHIER klicken zum Anmelden \nMit Rabattcode GUITARSUMMIT2025 gibt’s 50%! 🙂 \n  \n„How to build a killer live-show“ \nBring dein Konzert aufs nächste Level! \nEin Konzert kann ein einzigartiges\, bewegendes und unvergessliches Erlebnis für dein Publikum sein! In diesem Workshops bekommst Du Learnings\, Tipps & Hacks aus 30 Jahren Bühnenerfahrung\, 10 Jahren Straßenmusik und 2.500 offiziellen Konzerten \nWir schauen uns folgende Aspekte im Bezug auf LIVE an: \n\nEntertainer Mindset\nBleibende Momente für das Publikum kreieren\nMusikalische Kommunikation\nVisuelle Kommunikation\nEntertainment & Moderation\nTechnik\, Tools & Gear\nIn-Ear Monitoring\nCrew\nuvm.\n\n  \nHIER klicken zum Anmelden \nMit Rabattcode GUITARSUMMIT2025 gibt’s 50%! 🙂 \n  \nDer Workshop findet in der \nJON school for music & writing statt \nR7\, 39 \n68161 Mannheim
URL:https://www.criscosmo.com/live/workshop-in-mannheim-how-to-build-a-killer-live-show/
LOCATION:JON School for music & writing\, R7\, 39\, Mannheim\, BW\, 68161\, Germany
CATEGORIES:Workshop
ATTACH;FMTTYPE=image/jpeg:https://www.criscosmo.com/wp-content/uploads/2025/08/00-Cosmo_PalmTrees_by_Katia_Goekoglu.jpeg
ORGANIZER;CN="Next%20Mannheim":MAILTO:info@next-mannheim.de
END:VEVENT
END:VCALENDAR