BEGIN:VCALENDAR
VERSION:2.0
PRODID:-//Cris Cosmo - ECPv6.1.3//NONSGML v1.0//EN
CALSCALE:GREGORIAN
METHOD:PUBLISH
X-ORIGINAL-URL:https://www.criscosmo.com
X-WR-CALDESC:Veranstaltungen für Cris Cosmo
REFRESH-INTERVAL;VALUE=DURATION:PT1H
X-Robots-Tag:noindex
X-PUBLISHED-TTL:PT1H
BEGIN:VTIMEZONE
TZID:Europe/Berlin
BEGIN:DAYLIGHT
TZOFFSETFROM:+0100
TZOFFSETTO:+0200
TZNAME:CEST
DTSTART:20250330T010000
END:DAYLIGHT
BEGIN:STANDARD
TZOFFSETFROM:+0200
TZOFFSETTO:+0100
TZNAME:CET
DTSTART:20251026T010000
END:STANDARD
END:VTIMEZONE
BEGIN:VEVENT
DTSTART;TZID=Europe/Berlin:20250925T160000
DTEND;TZID=Europe/Berlin:20250925T173000
DTSTAMP:20260421T063714
CREATED:20250827T172622Z
LAST-MODIFIED:20260107T114006Z
UID:6005-1758816000-1758821400@www.criscosmo.com
SUMMARY:Mannheim
DESCRIPTION:Cris Cosmo – solo \nvon ca.16:00 – 16:30Uhr und17:00 – 17:30 Uhr \nQ6/Q7 – Das Quartier\nQ7 23\n68161 Mannheim \nVerstärkte „Straßenmusik“ Reihe im Vorfeld des Guitar Summit in Mannheim \nEintritt frei!
URL:https://www.criscosmo.com/live/mannheim-14/
LOCATION:Q6/Q7 – Das Quartier\, Q7 23\, Mannheim\, BW\, 68161\, Germany
CATEGORIES:Konzert
ATTACH;FMTTYPE=image/jpeg:https://www.criscosmo.com/wp-content/uploads/2025/08/00-Cosmo_PalmTrees_by_Katia_Goekoglu.jpeg
END:VEVENT
END:VCALENDAR